Package: GARS Version: 1.26.0 Command: F:\biocbuild\bbs-3.20-bioc\R\bin\R.exe CMD INSTALL GARS StartedAt: 2025-01-30 16:44:05 -0500 (Thu, 30 Jan 2025) EndedAt: 2025-01-30 16:45:14 -0500 (Thu, 30 Jan 2025) EllapsedTime: 68.8 seconds RetCode: 0 Status: OK