Package: GBScleanR Version: 2.0.3 Command: rm -rf GBScleanR.buildbin-libdir && mkdir GBScleanR.buildbin-libdir && /Users/biocbuild/BBS/utils/build-universal.sh GBScleanR_2.0.3.tar.gz /Library/Frameworks/R.framework/Resources/bin/R GBScleanR.buildbin-libdir StartedAt: 2025-02-05 15:55:37 -0500 (Wed, 05 Feb 2025) EndedAt: 2025-02-05 15:56:29 -0500 (Wed, 05 Feb 2025) EllapsedTime: 52.1 seconds RetCode: 0 Status: OK PackageFile: GBScleanR_2.0.3.tgz PackageFileSize: 2.856 MiB