Package: GBScleanR Version: 2.0.3 Command: /Library/Frameworks/R.framework/Resources/bin/R CMD check --install=check:GBScleanR.install-out.txt --library=/Library/Frameworks/R.framework/Resources/library --no-vignettes --timings GBScleanR_2.0.3.tar.gz StartedAt: 2025-02-04 20:20:09 -0500 (Tue, 04 Feb 2025) EndedAt: 2025-02-04 20:23:28 -0500 (Tue, 04 Feb 2025) EllapsedTime: 199.6 seconds RetCode: 0 Status: OK CheckDir: GBScleanR.Rcheck Warnings: 0