Package: GBScleanR Version: 2.0.3 Command: /Library/Frameworks/R.framework/Resources/bin/R CMD INSTALL GBScleanR StartedAt: 2025-02-03 15:33:45 -0500 (Mon, 03 Feb 2025) EndedAt: 2025-02-03 15:34:08 -0500 (Mon, 03 Feb 2025) EllapsedTime: 23.2 seconds RetCode: 0 Status: OK