Package: GBScleanR Version: 2.0.3 Command: /home/biocbuild/bbs-3.20-bioc/R/bin/R CMD check --install=check:GBScleanR.install-out.txt --library=/home/biocbuild/bbs-3.20-bioc/R/site-library --timings GBScleanR_2.0.3.tar.gz StartedAt: 2025-02-03 22:31:38 -0500 (Mon, 03 Feb 2025) EndedAt: 2025-02-03 22:35:14 -0500 (Mon, 03 Feb 2025) EllapsedTime: 216.2 seconds RetCode: 0 Status: OK CheckDir: GBScleanR.Rcheck Warnings: 0