Package: GBScleanR Version: 2.0.3 Command: chmod a+r GBScleanR -R && F:\biocbuild\bbs-3.20-bioc\R\bin\R.exe CMD build --keep-empty-dirs --no-resave-data GBScleanR StartedAt: 2025-02-03 19:18:11 -0500 (Mon, 03 Feb 2025) EndedAt: 2025-02-03 19:22:07 -0500 (Mon, 03 Feb 2025) EllapsedTime: 236.3 seconds RetCode: 0 Status: OK PackageFile: GBScleanR_2.0.3.tar.gz PackageFileSize: 1.006 MiB