Package: GBScleanR Version: 2.0.3 Command: /home/biocbuild/R/R/bin/R CMD build --keep-empty-dirs --no-resave-data GBScleanR StartedAt: 2025-02-03 23:43:33 -0000 (Mon, 03 Feb 2025) EndedAt: 2025-02-03 23:45:33 -0000 (Mon, 03 Feb 2025) EllapsedTime: 120.0 seconds RetCode: 1 Status: ERROR PackageFile: None PackageFileSize: NA