Package: GDCRNATools Version: 1.26.0 Command: /Library/Frameworks/R.framework/Resources/bin/R CMD build --keep-empty-dirs --no-resave-data GDCRNATools StartedAt: 2025-01-31 00:02:19 -0500 (Fri, 31 Jan 2025) EndedAt: 2025-01-31 00:03:40 -0500 (Fri, 31 Jan 2025) EllapsedTime: 80.8 seconds RetCode: 0 Status: OK PackageFile: GDCRNATools_1.26.0.tar.gz PackageFileSize: 5.313 MiB