Package: GDCRNATools Version: 1.26.0 Command: /home/biocbuild/R/R/bin/R CMD INSTALL GDCRNATools StartedAt: 2025-02-03 21:21:46 -0000 (Mon, 03 Feb 2025) EndedAt: 2025-02-03 21:22:59 -0000 (Mon, 03 Feb 2025) EllapsedTime: 72.9 seconds RetCode: 0 Status: OK