Package: GDSArray Version: 1.26.0 Command: rm -rf GDSArray.buildbin-libdir && mkdir GDSArray.buildbin-libdir && /Users/biocbuild/BBS/utils/build-universal.sh GDSArray_1.26.0.tar.gz /Library/Frameworks/R.framework/Resources/bin/R GDSArray.buildbin-libdir StartedAt: 2025-02-04 12:59:20 -0500 (Tue, 04 Feb 2025) EndedAt: 2025-02-04 13:00:01 -0500 (Tue, 04 Feb 2025) EllapsedTime: 41.2 seconds RetCode: 0 Status: OK PackageFile: GDSArray_1.26.0.tgz PackageFileSize: 666.8 KiB