Package: GDSArray Version: 1.26.0 Command: /home/biocbuild/bbs-3.20-bioc/R/bin/R CMD INSTALL GDSArray StartedAt: 2025-02-03 15:21:27 -0500 (Mon, 03 Feb 2025) EndedAt: 2025-02-03 15:21:42 -0500 (Mon, 03 Feb 2025) EllapsedTime: 15.3 seconds RetCode: 0 Status: OK