Package: GDSArray Version: 1.26.0 Command: /home/biocbuild/R/R/bin/R CMD INSTALL GDSArray StartedAt: 2025-02-10 20:19:25 -0000 (Mon, 10 Feb 2025) EndedAt: 2025-02-10 20:19:46 -0000 (Mon, 10 Feb 2025) EllapsedTime: 21.3 seconds RetCode: 0 Status: OK