Package: GEM Version: 1.32.0 Command: rm -rf GEM.buildbin-libdir && mkdir GEM.buildbin-libdir && /Users/biocbuild/BBS/utils/build-universal.sh GEM_1.32.0.tar.gz /Library/Frameworks/R.framework/Resources/bin/R GEM.buildbin-libdir StartedAt: 2025-02-04 12:59:28 -0500 (Tue, 04 Feb 2025) EndedAt: 2025-02-04 12:59:48 -0500 (Tue, 04 Feb 2025) EllapsedTime: 19.2 seconds RetCode: 0 Status: OK PackageFile: GEM_1.32.0.tgz PackageFileSize: 910.5 KiB