Package: GEM Version: 1.32.0 Command: /Library/Frameworks/R.framework/Resources/bin/R CMD INSTALL GEM StartedAt: 2025-02-03 15:20:29 -0500 (Mon, 03 Feb 2025) EndedAt: 2025-02-03 15:21:04 -0500 (Mon, 03 Feb 2025) EllapsedTime: 35.1 seconds RetCode: 0 Status: OK