Package: GEM Version: 1.32.0 Command: /home/biocbuild/R/R/bin/R CMD build --keep-empty-dirs --no-resave-data GEM StartedAt: 2025-02-03 23:45:34 -0000 (Mon, 03 Feb 2025) EndedAt: 2025-02-03 23:45:55 -0000 (Mon, 03 Feb 2025) EllapsedTime: 21.0 seconds RetCode: 0 Status: OK PackageFile: GEM_1.32.0.tar.gz PackageFileSize: 461.3 KiB