Package: GEM Version: 1.32.0 Command: /home/biocbuild/R/R/bin/R CMD check --install=check:GEM.install-out.txt --library=/home/biocbuild/R/R/site-library --no-vignettes --timings GEM_1.32.0.tar.gz StartedAt: 2025-02-04 07:12:59 -0000 (Tue, 04 Feb 2025) EndedAt: 2025-02-04 07:14:00 -0000 (Tue, 04 Feb 2025) EllapsedTime: 61.0 seconds RetCode: 0 Status: WARNINGS CheckDir: GEM.Rcheck Warnings: 1