Package: GENESIS Version: 2.36.0 Command: /Library/Frameworks/R.framework/Resources/bin/R CMD build --keep-empty-dirs --no-resave-data GENESIS StartedAt: 2025-02-03 19:08:18 -0500 (Mon, 03 Feb 2025) EndedAt: 2025-02-03 19:12:12 -0500 (Mon, 03 Feb 2025) EllapsedTime: 234.4 seconds RetCode: 0 Status: OK PackageFile: GENESIS_2.36.0.tar.gz PackageFileSize: 3.844 MiB