Package: GENESIS Version: 2.36.0 Command: /Library/Frameworks/R.framework/Resources/bin/R CMD INSTALL GENESIS StartedAt: 2025-02-10 16:21:45 -0500 (Mon, 10 Feb 2025) EndedAt: 2025-02-10 16:22:44 -0500 (Mon, 10 Feb 2025) EllapsedTime: 59.4 seconds RetCode: 0 Status: OK