Package: GENESIS Version: 2.36.0 Command: chmod a+r GENESIS -R && F:\biocbuild\bbs-3.20-bioc\R\bin\R.exe CMD build --keep-empty-dirs --no-resave-data GENESIS StartedAt: 2025-02-03 19:22:33 -0500 (Mon, 03 Feb 2025) EndedAt: 2025-02-03 19:24:54 -0500 (Mon, 03 Feb 2025) EllapsedTime: 141.3 seconds RetCode: 0 Status: OK PackageFile: GENESIS_2.36.0.tar.gz PackageFileSize: 2.927 MiB