Package: GENIE3 Version: 1.28.0 Command: /Library/Frameworks/R.framework/Resources/bin/R CMD check --install=check:GENIE3.install-out.txt --library=/Library/Frameworks/R.framework/Resources/library --no-vignettes --timings GENIE3_1.28.0.tar.gz StartedAt: 2025-02-11 03:53:54 -0500 (Tue, 11 Feb 2025) EndedAt: 2025-02-11 03:55:18 -0500 (Tue, 11 Feb 2025) EllapsedTime: 84.1 seconds RetCode: 0 Status: OK CheckDir: GENIE3.Rcheck Warnings: 0