Package: GENIE3 Version: 1.28.0 Command: /home/biocbuild/bbs-3.20-bioc/R/bin/R CMD check --install=check:GENIE3.install-out.txt --library=/home/biocbuild/bbs-3.20-bioc/R/site-library --timings GENIE3_1.28.0.tar.gz StartedAt: 2025-02-03 22:39:20 -0500 (Mon, 03 Feb 2025) EndedAt: 2025-02-03 22:39:58 -0500 (Mon, 03 Feb 2025) EllapsedTime: 38.1 seconds RetCode: 0 Status: OK CheckDir: GENIE3.Rcheck Warnings: 0