Package: GENIE3 Version: 1.28.0 Command: chmod a+r GENIE3 -R && F:\biocbuild\bbs-3.20-bioc\R\bin\R.exe CMD build --keep-empty-dirs --no-resave-data GENIE3 StartedAt: 2025-02-10 19:16:37 -0500 (Mon, 10 Feb 2025) EndedAt: 2025-02-10 19:16:54 -0500 (Mon, 10 Feb 2025) EllapsedTime: 16.9 seconds RetCode: 0 Status: OK PackageFile: GENIE3_1.28.0.tar.gz PackageFileSize: 241.5 KiB