Package: GEOmetadb Version: 1.68.1 Command: rm -rf GEOmetadb.buildbin-libdir && mkdir GEOmetadb.buildbin-libdir && /Users/biocbuild/BBS/utils/build-universal.sh GEOmetadb_1.68.1.tar.gz /Library/Frameworks/R.framework/Resources/bin/R GEOmetadb.buildbin-libdir StartedAt: 2025-02-12 15:15:40 -0500 (Wed, 12 Feb 2025) EndedAt: 2025-02-12 15:15:46 -0500 (Wed, 12 Feb 2025) EllapsedTime: 5.7 seconds RetCode: 0 Status: OK PackageFile: GEOmetadb_1.68.1.tgz PackageFileSize: 524.6 KiB