Package: GEOmetadb Version: 1.68.0 Command: /Library/Frameworks/R.framework/Resources/bin/R CMD build --keep-empty-dirs --no-resave-data GEOmetadb StartedAt: 2024-11-19 16:59:24 -0500 (Tue, 19 Nov 2024) EndedAt: 2024-11-19 16:59:37 -0500 (Tue, 19 Nov 2024) EllapsedTime: 12.6 seconds RetCode: 1 Status: ERROR PackageFile: None PackageFileSize: NA