Package: GEOmetadb Version: 1.68.1 Command: /Library/Frameworks/R.framework/Resources/bin/R CMD build --keep-empty-dirs --no-resave-data GEOmetadb StartedAt: 2025-02-03 19:12:56 -0500 (Mon, 03 Feb 2025) EndedAt: 2025-02-03 19:13:24 -0500 (Mon, 03 Feb 2025) EllapsedTime: 28.3 seconds RetCode: 0 Status: OK PackageFile: GEOmetadb_1.68.1.tar.gz PackageFileSize: 615.7 KiB