Package: GEOmetadb Version: 1.68.1 Command: /Library/Frameworks/R.framework/Resources/bin/R CMD check --install=check:GEOmetadb.install-out.txt --library=/Library/Frameworks/R.framework/Resources/library --no-vignettes --timings GEOmetadb_1.68.1.tar.gz StartedAt: 2025-02-04 04:20:27 -0500 (Tue, 04 Feb 2025) EndedAt: 2025-02-04 04:21:30 -0500 (Tue, 04 Feb 2025) EllapsedTime: 62.8 seconds RetCode: 0 Status: WARNINGS CheckDir: GEOmetadb.Rcheck Warnings: 1