Package: GEOmetadb Version: 1.68.1 Command: /home/biocbuild/R/R/bin/R CMD build --keep-empty-dirs --no-resave-data GEOmetadb StartedAt: 2025-02-10 23:43:28 -0000 (Mon, 10 Feb 2025) EndedAt: 2025-02-10 23:45:14 -0000 (Mon, 10 Feb 2025) EllapsedTime: 106.0 seconds RetCode: 0 Status: OK PackageFile: GEOmetadb_1.68.1.tar.gz PackageFileSize: 539.6 KiB