Package: GEOquery Version: 2.74.0 Command: /Library/Frameworks/R.framework/Resources/bin/R CMD build --keep-empty-dirs --no-resave-data GEOquery StartedAt: 2025-02-04 00:18:27 -0500 (Tue, 04 Feb 2025) EndedAt: 2025-02-04 00:19:38 -0500 (Tue, 04 Feb 2025) EllapsedTime: 71.1 seconds RetCode: 0 Status: OK PackageFile: GEOquery_2.74.0.tar.gz PackageFileSize: 13.07 MiB