Package: GEOquery Version: 2.74.0 Command: /Library/Frameworks/R.framework/Resources/bin/R CMD check --install=check:GEOquery.install-out.txt --library=/Library/Frameworks/R.framework/Resources/library --no-vignettes --timings GEOquery_2.74.0.tar.gz StartedAt: 2025-02-04 21:13:09 -0500 (Tue, 04 Feb 2025) EndedAt: 2025-02-04 21:18:40 -0500 (Tue, 04 Feb 2025) EllapsedTime: 330.9 seconds RetCode: 0 Status: OK CheckDir: GEOquery.Rcheck Warnings: 0