Package: GEOquery Version: 2.74.0 Command: /Library/Frameworks/R.framework/Resources/bin/R CMD INSTALL GEOquery StartedAt: 2025-02-03 15:28:12 -0500 (Mon, 03 Feb 2025) EndedAt: 2025-02-03 15:28:40 -0500 (Mon, 03 Feb 2025) EllapsedTime: 28.7 seconds RetCode: 0 Status: OK