Package: GEOquery Version: 2.74.0 Command: /Library/Frameworks/R.framework/Resources/bin/R CMD build --keep-empty-dirs --no-resave-data GEOquery StartedAt: 2025-02-03 19:13:13 -0500 (Mon, 03 Feb 2025) EndedAt: 2025-02-03 19:15:03 -0500 (Mon, 03 Feb 2025) EllapsedTime: 110.2 seconds RetCode: 0 Status: OK PackageFile: GEOquery_2.74.0.tar.gz PackageFileSize: 13.07 MiB