Package: GEOquery Version: 2.74.0 Command: /Library/Frameworks/R.framework/Resources/bin/R CMD INSTALL GEOquery StartedAt: 2025-02-03 15:23:39 -0500 (Mon, 03 Feb 2025) EndedAt: 2025-02-03 15:24:38 -0500 (Mon, 03 Feb 2025) EllapsedTime: 58.4 seconds RetCode: 0 Status: OK