Package: GEOquery Version: 2.74.0 Command: /home/biocbuild/bbs-3.20-bioc/R/bin/R CMD check --install=check:GEOquery.install-out.txt --library=/home/biocbuild/bbs-3.20-bioc/R/site-library --timings GEOquery_2.74.0.tar.gz StartedAt: 2025-02-03 22:46:53 -0500 (Mon, 03 Feb 2025) EndedAt: 2025-02-03 22:52:03 -0500 (Mon, 03 Feb 2025) EllapsedTime: 309.4 seconds RetCode: 0 Status: OK CheckDir: GEOquery.Rcheck Warnings: 0