Package: GEOquery Version: 2.74.0 Command: /home/biocbuild/R/R/bin/R CMD build --keep-empty-dirs --no-resave-data GEOquery StartedAt: 2025-02-10 23:44:31 -0000 (Mon, 10 Feb 2025) EndedAt: 2025-02-10 23:46:57 -0000 (Mon, 10 Feb 2025) EllapsedTime: 146.1 seconds RetCode: 0 Status: OK PackageFile: GEOquery_2.74.0.tar.gz PackageFileSize: 13.1 MiB