Package: GEOquery Version: 2.74.0 Command: /home/biocbuild/R/R/bin/R CMD INSTALL GEOquery StartedAt: 2025-02-03 20:30:42 -0000 (Mon, 03 Feb 2025) EndedAt: 2025-02-03 20:31:14 -0000 (Mon, 03 Feb 2025) EllapsedTime: 32.1 seconds RetCode: 0 Status: OK