Package: GEOsubmission Version: 1.58.0 Command: /home/biocbuild/R/R/bin/R CMD check --install=check:GEOsubmission.install-out.txt --library=/home/biocbuild/R/R/site-library --no-vignettes --timings GEOsubmission_1.58.0.tar.gz StartedAt: 2025-02-04 07:24:47 -0000 (Tue, 04 Feb 2025) EndedAt: 2025-02-04 07:25:15 -0000 (Tue, 04 Feb 2025) EllapsedTime: 28.0 seconds RetCode: 0 Status: OK CheckDir: GEOsubmission.Rcheck Warnings: 0