Package: GEWIST Version: 1.50.0 Command: /Library/Frameworks/R.framework/Resources/bin/R CMD build --keep-empty-dirs --no-resave-data GEWIST StartedAt: 2025-02-04 00:21:22 -0500 (Tue, 04 Feb 2025) EndedAt: 2025-02-04 00:23:42 -0500 (Tue, 04 Feb 2025) EllapsedTime: 140.9 seconds RetCode: 0 Status: OK PackageFile: GEWIST_1.50.0.tar.gz PackageFileSize: 388 KiB