Package: GEWIST Version: 1.50.0 Command: /Library/Frameworks/R.framework/Resources/bin/R CMD check --install=check:GEWIST.install-out.txt --library=/Library/Frameworks/R.framework/Resources/library --no-vignettes --timings GEWIST_1.50.0.tar.gz StartedAt: 2025-02-04 21:17:48 -0500 (Tue, 04 Feb 2025) EndedAt: 2025-02-04 21:18:32 -0500 (Tue, 04 Feb 2025) EllapsedTime: 44.0 seconds RetCode: 0 Status: OK CheckDir: GEWIST.Rcheck Warnings: 0