Package: GEWIST Version: 1.50.0 Command: /Library/Frameworks/R.framework/Resources/bin/R CMD INSTALL GEWIST StartedAt: 2025-02-03 17:16:45 -0500 (Mon, 03 Feb 2025) EndedAt: 2025-02-03 17:16:47 -0500 (Mon, 03 Feb 2025) EllapsedTime: 2.6 seconds RetCode: 0 Status: OK