Package: GEWIST Version: 1.50.0 Command: /Library/Frameworks/R.framework/Resources/bin/R CMD build --keep-empty-dirs --no-resave-data GEWIST StartedAt: 2025-02-03 19:14:10 -0500 (Mon, 03 Feb 2025) EndedAt: 2025-02-03 19:17:17 -0500 (Mon, 03 Feb 2025) EllapsedTime: 187.1 seconds RetCode: 0 Status: OK PackageFile: GEWIST_1.50.0.tar.gz PackageFileSize: 388.7 KiB