Package: GEWIST Version: 1.50.0 Command: /home/biocbuild/bbs-3.20-bioc/R/bin/R CMD check --install=check:GEWIST.install-out.txt --library=/home/biocbuild/bbs-3.20-bioc/R/site-library --timings GEWIST_1.50.0.tar.gz StartedAt: 2025-02-03 22:47:47 -0500 (Mon, 03 Feb 2025) EndedAt: 2025-02-03 22:49:52 -0500 (Mon, 03 Feb 2025) EllapsedTime: 125.2 seconds RetCode: 0 Status: OK CheckDir: GEWIST.Rcheck Warnings: 0