Package: GEWIST Version: 1.50.0 Command: /home/biocbuild/bbs-3.20-bioc/R/bin/R CMD INSTALL GEWIST StartedAt: 2025-02-03 15:52:36 -0500 (Mon, 03 Feb 2025) EndedAt: 2025-02-03 15:52:39 -0500 (Mon, 03 Feb 2025) EllapsedTime: 2.3 seconds RetCode: 0 Status: OK