Package: GEWIST Version: 1.50.0 Command: rm -rf GEWIST.buildbin-libdir && mkdir GEWIST.buildbin-libdir && F:\biocbuild\bbs-3.20-bioc\R\bin\R.exe CMD INSTALL --build --library=GEWIST.buildbin-libdir GEWIST_1.50.0.tar.gz StartedAt: 2025-02-04 08:36:13 -0500 (Tue, 04 Feb 2025) EndedAt: 2025-02-04 08:36:17 -0500 (Tue, 04 Feb 2025) EllapsedTime: 4.5 seconds RetCode: 0 Status: OK PackageFile: GEWIST_1.50.0.zip PackageFileSize: 293.7 KiB