Package: GEWIST Version: 1.50.0 Command: chmod a+r GEWIST -R && F:\biocbuild\bbs-3.20-bioc\R\bin\R.exe CMD build --keep-empty-dirs --no-resave-data GEWIST StartedAt: 2025-02-03 19:27:33 -0500 (Mon, 03 Feb 2025) EndedAt: 2025-02-03 19:30:03 -0500 (Mon, 03 Feb 2025) EllapsedTime: 149.4 seconds RetCode: 0 Status: OK PackageFile: GEWIST_1.50.0.tar.gz PackageFileSize: 266.7 KiB