Package: GEWIST Version: 1.50.0 Command: /home/biocbuild/R/R/bin/R CMD build --keep-empty-dirs --no-resave-data GEWIST StartedAt: 2025-02-03 23:54:36 -0000 (Mon, 03 Feb 2025) EndedAt: 2025-02-03 23:57:23 -0000 (Mon, 03 Feb 2025) EllapsedTime: 166.1 seconds RetCode: 0 Status: OK PackageFile: GEWIST_1.50.0.tar.gz PackageFileSize: 376.9 KiB