Package: GEWIST Version: 1.50.0 Command: /home/biocbuild/R/R/bin/R CMD check --install=check:GEWIST.install-out.txt --library=/home/biocbuild/R/R/site-library --no-vignettes --timings GEWIST_1.50.0.tar.gz StartedAt: 2025-02-04 07:25:34 -0000 (Tue, 04 Feb 2025) EndedAt: 2025-02-04 07:26:28 -0000 (Tue, 04 Feb 2025) EllapsedTime: 54.0 seconds RetCode: 0 Status: OK CheckDir: GEWIST.Rcheck Warnings: 0