Package: GGPA Version: 1.18.0 Command: rm -rf GGPA.buildbin-libdir && mkdir GGPA.buildbin-libdir && /Users/biocbuild/BBS/utils/build-universal.sh GGPA_1.18.0.tar.gz /Library/Frameworks/R.framework/Resources/bin/R GGPA.buildbin-libdir StartedAt: 2025-02-01 15:07:40 -0500 (Sat, 01 Feb 2025) EndedAt: 2025-02-01 15:08:14 -0500 (Sat, 01 Feb 2025) EllapsedTime: 33.9 seconds RetCode: 0 Status: OK PackageFile: GGPA_1.18.0.tgz PackageFileSize: 2.859 MiB