Package: GGPA Version: 1.18.0 Command: /Library/Frameworks/R.framework/Resources/bin/R CMD check --install=check:GGPA.install-out.txt --library=/Library/Frameworks/R.framework/Resources/library --no-vignettes --timings GGPA_1.18.0.tar.gz StartedAt: 2025-01-31 20:50:41 -0500 (Fri, 31 Jan 2025) EndedAt: 2025-01-31 20:54:21 -0500 (Fri, 31 Jan 2025) EllapsedTime: 219.2 seconds RetCode: 0 Status: WARNINGS CheckDir: GGPA.Rcheck Warnings: 1