Package: GGPA Version: 1.18.0 Command: /Library/Frameworks/R.framework/Resources/bin/R CMD build --keep-empty-dirs --no-resave-data GGPA StartedAt: 2025-01-30 19:27:30 -0500 (Thu, 30 Jan 2025) EndedAt: 2025-01-30 19:29:44 -0500 (Thu, 30 Jan 2025) EllapsedTime: 133.9 seconds RetCode: 0 Status: OK PackageFile: GGPA_1.18.0.tar.gz PackageFileSize: 4.712 MiB