Package: GGPA Version: 1.18.0 Command: rm -rf GGPA.buildbin-libdir && mkdir GGPA.buildbin-libdir && F:\biocbuild\bbs-3.20-bioc\R\bin\R.exe CMD INSTALL --build --library=GGPA.buildbin-libdir GGPA_1.18.0.tar.gz StartedAt: 2025-01-31 08:45:23 -0500 (Fri, 31 Jan 2025) EndedAt: 2025-01-31 08:46:13 -0500 (Fri, 31 Jan 2025) EllapsedTime: 49.1 seconds RetCode: 0 Status: OK PackageFile: GGPA_1.18.0.zip PackageFileSize: 3.061 MiB